BEGIN:VCALENDAR
VERSION:2.0
PRODID:LFV Website-Kit
METHOD:PUBLISH
BEGIN:VEVENT
UID:lfv-f0ea58c1-a528-4887-88cd-92f38345d1bb
LOCATION:Von-Schaezler-Str. 21, 86447 Pichl
SUMMARY:Grillfest
DESCRIPTION:Termin Link: https://feuerwehr-pichl-binnenbach.de/termine/grillfest-1/
URL:https://feuerwehr-pichl-binnenbach.de/termine/grillfest-1/
CLASS:PRIVATE
DTSTART;TZID=Europe/Berlin:20240727T180000
DTEND;TZID=Europe/Berlin:20240727T235900
DTSTAMP:20260421T170216Z
END:VEVENT
END:VCALENDAR